BEGIN:VCALENDAR
PRODID:-//eluceo/ical//2.0/EN
VERSION:2.0
CALSCALE:GREGORIAN
BEGIN:VEVENT
UID:1732331dc73678fc9396b6c2e3744c82
DTSTAMP:20260424T222110Z
SUMMARY:Addams Family Sunday Rehearsals
DESCRIPTION:Jewish Federation of Greater Harrisburg\nCommunity Calendar\nht
 tps://jewishharrisburg.org/community-calendar/addams-family-sunday-rehears
 als3-1-26\n\nAddams Family Sunday Rehearsals
DTSTART;TZID=America/New_York:20260301T123000
DTEND;TZID=America/New_York:20260301T153000
END:VEVENT
END:VCALENDAR
