BEGIN:VCALENDAR
PRODID:-//eluceo/ical//2.0/EN
VERSION:2.0
CALSCALE:GREGORIAN
BEGIN:VEVENT
UID:e7dc09cd31e24dfe126a642b129298a6
DTSTAMP:20260424T235740Z
SUMMARY:Addams Family Sunday Rehearsals
DESCRIPTION:Jewish Federation of Greater Harrisburg\nCommunity Calendar\nht
 tps://jewishharrisburg.org/community-calendar/addams-family-sunday-rehears
 alsFeb2026\n\nAddams Family Sunday Rehearsals
DTSTART;TZID=America/New_York:20260222T123000
DTEND;TZID=America/New_York:20260222T153000
END:VEVENT
END:VCALENDAR
