BEGIN:VCALENDAR
PRODID:-//eluceo/ical//2.0/EN
VERSION:2.0
CALSCALE:GREGORIAN
BEGIN:VEVENT
UID:4f20458a94453528831ad7f53057ba42
DTSTAMP:20260419T184657Z
SUMMARY:Basket Buddies
DESCRIPTION:Jewish Federation of Greater Harrisburg\nCommunity Calendar\nht
 tps://jewishharrisburg.org/community-calendar/basket-buddies2026\n\nJoin u
 s for a playful intro-to-basketball program designed for kids!\n\nBasket B
 uddies: Kids ages 2 - 4 are introduced to the sport alongside their adults
 ! $10/M\, $20/NM per class\n\nLed by our sports-minded shinshin\, Evyatar!
DTSTART;TZID=America/New_York:20260201T123000
DTEND;TZID=America/New_York:20260201T130000
END:VEVENT
END:VCALENDAR
