BEGIN:VCALENDAR
PRODID:-//eluceo/ical//2.0/EN
VERSION:2.0
CALSCALE:GREGORIAN
BEGIN:VEVENT
UID:ba7d3e5b098e27b2915f671905ccf3a7
DTSTAMP:20260419T125721Z
SUMMARY:BBG meeting
DESCRIPTION:Jewish Federation of Greater Harrisburg\nCommunity Calendar\nht
 tps://jewishharrisburg.org/community-calendar/bbg-meeting34\n\nmeeting
DTSTART;TZID=America/New_York:20180429T151500
DTEND;TZID=America/New_York:20180429T160000
END:VEVENT
END:VCALENDAR
