BEGIN:VCALENDAR
PRODID:-//eluceo/ical//2.0/EN
VERSION:2.0
CALSCALE:GREGORIAN
BEGIN:VEVENT
UID:ca90eaf38b697e64bfaab2813dd416d5
DTSTAMP:20260420T030842Z
SUMMARY:BBYO Meeting - AZA
DESCRIPTION:Jewish Federation of Greater Harrisburg\nCommunity Calendar\nht
 tps://jewishharrisburg.org/community-calendar/bbyo-meeting-aza2-5-2020\n\n
 meeting
DTSTART;TZID=America/New_York:20200205T190000
DTEND;TZID=America/New_York:20200205T200000
END:VEVENT
END:VCALENDAR
