BEGIN:VCALENDAR
PRODID:-//eluceo/ical//2.0/EN
VERSION:2.0
CALSCALE:GREGORIAN
BEGIN:VEVENT
UID:d7ec0eacaaefa4ca519b812b1dcc3f87
DTSTAMP:20260420T015545Z
SUMMARY:Beth El Temple Breakfast N' Learn
DESCRIPTION:Jewish Federation of Greater Harrisburg\nCommunity Calendar\nht
 tps://jewishharrisburg.org/community-calendar/beth-el-temple-breakfast-n-l
 earn11-4-18\n\nBeth El Temple Breakfast N' Learn series\n\nSpeaker and top
 ic to be announced.\n\nJoin us for minyan at 9:00 a.m. followed by breakfa
 st and the program\n\n 
DTSTART;TZID=America/New_York:20181104T100000
DTEND;TZID=America/New_York:20181104T120000
END:VEVENT
END:VCALENDAR
