BEGIN:VCALENDAR
PRODID:-//eluceo/ical//2.0/EN
VERSION:2.0
CALSCALE:GREGORIAN
BEGIN:VEVENT
UID:18784246d48d0a5a3a587f0586712036
DTSTAMP:20260419T191102Z
SUMMARY:Booked
DESCRIPTION:Jewish Federation of Greater Harrisburg\nCommunity Calendar\nht
 tps://jewishharrisburg.org/community-calendar/booked-Addams-Family-Move-In
 \n\nMove in day/PEG
DTSTART;TZID=America/New_York:20260424T080000
DTEND;TZID=America/New_York:20260424T200000
END:VEVENT
END:VCALENDAR
