BEGIN:VCALENDAR
PRODID:-//eluceo/ical//2.0/EN
VERSION:2.0
CALSCALE:GREGORIAN
BEGIN:VEVENT
UID:449172e5a8c5c91911531c8b465742e0
DTSTAMP:20260420T055623Z
SUMMARY:CEO Brainstorming Meeting
DESCRIPTION:Jewish Federation of Greater Harrisburg\nCommunity Calendar\nht
 tps://jewishharrisburg.org/community-calendar/ceo-brainstorming-meeting\n\
 nPrivate strategy meeting.
DTSTART;TZID=America/New_York:20180307T163000
DTEND;TZID=America/New_York:20180307T173000
END:VEVENT
END:VCALENDAR
