BEGIN:VCALENDAR
PRODID:-//eluceo/ical//2.0/EN
VERSION:2.0
CALSCALE:GREGORIAN
BEGIN:VEVENT
UID:552af10f9b9c27c1124a547744830fa8
DTSTAMP:20260419T192243Z
SUMMARY:Chanukah Celebration at the State Capitol
DESCRIPTION:Jewish Federation of Greater Harrisburg\nCommunity Calendar\nht
 tps://jewishharrisburg.org/community-calendar/chanukah-celebration-at-the-
 state-capitol-1763911816\n\nJoin us for an evening filled with unity\, ins
 piration\, and connection at the State Capitol East Wing Rotunda on Common
 wealth Avenue\, Monday\, December 15\, 2025 at 4:30 pm. Bring the whole fa
 mily for a fun-filled evening featuring hot latkes\, sufganiyot\, dreidels
 \, chocolate gelt\, musical entertainment\, and a special presentation by 
 the Silver Academy. There will be exciting activities for kids\, and all c
 hildren will have a chance to win a 10" Samsung Tablet.
DTSTART;TZID=America/New_York:20251215T163000
DTEND;TZID=America/New_York:20251215T173000
END:VEVENT
END:VCALENDAR
