BEGIN:VCALENDAR
PRODID:-//eluceo/ical//2.0/EN
VERSION:2.0
CALSCALE:GREGORIAN
BEGIN:VEVENT
UID:b480543c68f8875cf8e896c272c022e3
DTSTAMP:20260419T204935Z
SUMMARY:A Civil Discussion on Israel’s Path to the Future
DESCRIPTION:Jewish Federation of Greater Harrisburg\nCommunity Calendar\nht
 tps://jewishharrisburg.org/community-calendar/crcfall2017jointprogram\n\nT
 he Jewish Community Relations Councils of York and Greater Harrisburg invi
 te you to Beth El Temple in Harrisburg for an unforgettable program featur
 ing speakers Jonathan S. Tobin\, senior online editor and chief political 
 blogger of Commentary Magazine\, and J. J. Goldberg\, editor-at-large of t
 he Forward newspaper and former U.S. bureau chief of the Israeli news maga
 zine The Jerusalem Report. Thought leaders Tobin and Goldberg will debate 
 critical issues concerning the State of Israel.
DTSTART;TZID=America/New_York:20171105T190000
DTEND;TZID=America/New_York:20171105T200000
END:VEVENT
END:VCALENDAR
