BEGIN:VCALENDAR
PRODID:-//eluceo/ical//2.0/EN
VERSION:2.0
CALSCALE:GREGORIAN
BEGIN:VEVENT
UID:e06ff5942c8c065cdd5eea3ef0c99bbc
DTSTAMP:20260419T210852Z
SUMMARY:Federation Rental - Grass Campus
DESCRIPTION:Jewish Federation of Greater Harrisburg\nCommunity Calendar\nht
 tps://jewishharrisburg.org/community-calendar/federation-rental-grass-camp
 us5-14-2026a\n\nrental
DTSTART;TZID=America/New_York:20260514T090000
DTEND;TZID=America/New_York:20260514T143000
END:VEVENT
END:VCALENDAR
