BEGIN:VCALENDAR
PRODID:-//eluceo/ical//2.0/EN
VERSION:2.0
CALSCALE:GREGORIAN
BEGIN:VEVENT
UID:44217a17969eceb285565d939d877e39
DTSTAMP:20260419T200127Z
SUMMARY:Federation Rental
DESCRIPTION:Jewish Federation of Greater Harrisburg\nCommunity Calendar\nht
 tps://jewishharrisburg.org/community-calendar/federation-rental1-22-2022\n
 \nrental
DTSTART;TZID=America/New_York:20220122T120000
DTEND;TZID=America/New_York:20220122T140000
END:VEVENT
END:VCALENDAR
