BEGIN:VCALENDAR
PRODID:-//eluceo/ical//2.0/EN
VERSION:2.0
CALSCALE:GREGORIAN
BEGIN:VEVENT
UID:07fcc27ecc4862c0d7fb94cbf91a8cbf
DTSTAMP:20260419T141040Z
SUMMARY:Federation Rental
DESCRIPTION:Jewish Federation of Greater Harrisburg\nCommunity Calendar\nht
 tps://jewishharrisburg.org/community-calendar/federation-rental5-10-2021\n
 \nfederation rental
DTSTART;TZID=America/New_York:20210510T184500
DTEND;TZID=America/New_York:20210510T203000
END:VEVENT
END:VCALENDAR
