BEGIN:VCALENDAR
PRODID:-//eluceo/ical//2.0/EN
VERSION:2.0
CALSCALE:GREGORIAN
BEGIN:VEVENT
UID:e98c66ef5686fbb813a18b3db3b5f6e2
DTSTAMP:20260426T031034Z
SUMMARY:Golda Meir Day - Ice Cream Social
DESCRIPTION:Jewish Federation of Greater Harrisburg\nCommunity Calendar\nht
 tps://jewishharrisburg.org/community-calendar/golda-meir-day-ice-cream-soc
 ial3-22-26\n\nJoin Nitzan & Evyatar for an Ice Cream\, Crafts\, Family Fun
 !\n\nRegister today!\n\nIndividual $18M / $25NM - Family $36M / $50NM
DTSTART;TZID=America/New_York:20260322T120000
DTEND;TZID=America/New_York:20260322T140000
END:VEVENT
END:VCALENDAR
