BEGIN:VCALENDAR
PRODID:-//eluceo/ical//2.0/EN
VERSION:2.0
CALSCALE:GREGORIAN
BEGIN:VEVENT
UID:5705b4274d7f4bb6c4ba79ff631a5975
DTSTAMP:20260419T155451Z
SUMMARY:Community Pre-Hanukkah Kickoff!
DESCRIPTION:Jewish Federation of Greater Harrisburg\nCommunity Calendar\nht
 tps://jewishharrisburg.org/community-calendar/hanukkah-kickoff\n\nKick-off
  the Hanukkah season with some fun at the J! \n\nJoin us for an exciting 
 Chanukah celebration\, including Latkes games lots of fun!\n \n\nCost: $2
 0/family\n\n\nSponsorship Opportunities are available:\nMenorah - $100\n\n
 Sufganiyot - $72\n\nDreidel - $36\n\nIn Partnership with: Gesher | Temple
  Ohev Sholom | Silver Academy\n\n \n\nThis program is funded by the Annua
 l Campaign of the Jewish Federation of Greater Harrisburg
DTSTART;TZID=America/New_York:20231206T170000
DTEND;TZID=America/New_York:20231206T200000
END:VEVENT
END:VCALENDAR
