BEGIN:VCALENDAR
PRODID:-//eluceo/ical//2.0/EN
VERSION:2.0
CALSCALE:GREGORIAN
BEGIN:VEVENT
UID:27f693837ab25f82565b0601d7e33dc4
DTSTAMP:20260419T123850Z
SUMMARY:HYP  Rental
DESCRIPTION:Jewish Federation of Greater Harrisburg\nCommunity Calendar\nht
 tps://jewishharrisburg.org/community-calendar/hyp-rental4-7-18\n\nHYP rent
 al
DTSTART;TZID=America/New_York:20180407T090000
DTEND;TZID=America/New_York:20180407T110000
END:VEVENT
END:VCALENDAR
