BEGIN:VCALENDAR
PRODID:-//eluceo/ical//2.0/EN
VERSION:2.0
CALSCALE:GREGORIAN
BEGIN:VEVENT
UID:dfb6f9cb2e84ccf13423bcda96b8f8bc
DTSTAMP:20260421T133026Z
SUMMARY:In-service Day
DESCRIPTION:Jewish Federation of Greater Harrisburg\nCommunity Calendar\nht
 tps://jewishharrisburg.org/community-calendar/in-service-day11-25-15\n\nIn
 - Service day for children Kindergarten to 5th grade
DTSTART;TZID=America/New_York:20151125T073000
DTEND;TZID=America/New_York:20151125T180000
END:VEVENT
END:VCALENDAR
