BEGIN:VCALENDAR
PRODID:-//eluceo/ical//2.0/EN
VERSION:2.0
CALSCALE:GREGORIAN
BEGIN:VEVENT
UID:b41450b4e28062502e199ade43205b47
DTSTAMP:20260425T142552Z
SUMMARY:Countering Active Threat Training
DESCRIPTION:Jewish Federation of Greater Harrisburg\nCommunity Calendar\nht
 tps://jewishharrisburg.org/community-calendar/interfaith-CATT\n\nInterfait
 h Security Training\nCountering Active Threat Training and Q&A\nWednesday\
 , October 29th | 3 - 5pm\nAlexander Grass Campus for Jewish Life | 2986 N.
  2nd St.\, Harrisburg\n\nJoin the Jewish Federation of Greater Harrisburg 
 and Secure Community Network for this comprehensive training program and Q
 &A with local law enforcement partners\, developed for faith-based institu
 tions and houses of worship.\n\nThis FREE course is designed for all membe
 rs of the community - participants of all faith...
DTSTART;TZID=America/New_York:20251029T150000
DTEND;TZID=America/New_York:20251029T170000
END:VEVENT
END:VCALENDAR
