BEGIN:VCALENDAR
PRODID:-//eluceo/ical//2.0/EN
VERSION:2.0
CALSCALE:GREGORIAN
BEGIN:VEVENT
UID:ece635c3a08fc66cf6da20cf06132011
DTSTAMP:20260420T051334Z
SUMMARY:International Holocaust Remembrance Day Program
DESCRIPTION:Jewish Federation of Greater Harrisburg\nCommunity Calendar\nht
 tps://jewishharrisburg.org/community-calendar/internationl-holocaust-remem
 brance-day-program1-23-2024\n\nJoin us in commemorating and remembering th
 e Holocaust and its victims at this program in recognition of Internationa
 l Holocaust Remembrance Day. We will be joined by our keynote speaker\, To
 va Friedman\, Holocaust Survivor and best-selling author.\n\nLight refresh
 ments will be provided. Admission to this program is free and open to the 
 entire community.
DTSTART;TZID=America/New_York:20240123T180000
DTEND;TZID=America/New_York:20240123T200000
END:VEVENT
END:VCALENDAR
