BEGIN:VCALENDAR
PRODID:-//eluceo/ical//2.0/EN
VERSION:2.0
CALSCALE:GREGORIAN
BEGIN:VEVENT
UID:ffec6e61215f024a6710edc3c84e5de0
DTSTAMP:20260419T132211Z
SUMMARY:J-Serve
DESCRIPTION:Jewish Federation of Greater Harrisburg\nCommunity Calendar\nht
 tps://jewishharrisburg.org/community-calendar/j-serve-2015\n\nTeen Service
  Day
DTSTART;TZID=America/New_York:20150419T120000
DTEND;TZID=America/New_York:20150419T170000
END:VEVENT
END:VCALENDAR
