BEGIN:VCALENDAR
PRODID:-//eluceo/ical//2.0/EN
VERSION:2.0
CALSCALE:GREGORIAN
BEGIN:VEVENT
UID:aa09494d0a09af902eea4e414ee1b3c7
DTSTAMP:20260420T120934Z
SUMMARY:JCC Lifeguard Class 2018
DESCRIPTION:Jewish Federation of Greater Harrisburg\nCommunity Calendar\nht
 tps://jewishharrisburg.org/community-calendar/jcc-lifeguard-class-2018-wee
 kend-1\n\nLIfeguard certification class
DTSTART;TZID=America/New_York:20180421T090000
DTEND;TZID=America/New_York:20180421T160000
END:VEVENT
END:VCALENDAR
