BEGIN:VCALENDAR
PRODID:-//eluceo/ical//2.0/EN
VERSION:2.0
CALSCALE:GREGORIAN
BEGIN:VEVENT
UID:14605fa76cb8a6c84090e5785622f54c
DTSTAMP:20260419T152559Z
SUMMARY:JCF Annual Dinner Event
DESCRIPTION:Jewish Federation of Greater Harrisburg\nCommunity Calendar\nht
 tps://jewishharrisburg.org/community-calendar/jcf-annual-dinner-event-5-28
 -26\n\nJewish Community Foundation of Central PA Annual Dinner Event
DTSTART;TZID=America/New_York:20260528T173000
DTEND;TZID=America/New_York:20260528T210000
END:VEVENT
END:VCALENDAR
