BEGIN:VCALENDAR
PRODID:-//eluceo/ical//2.0/EN
VERSION:2.0
CALSCALE:GREGORIAN
BEGIN:VEVENT
UID:3eaa2c2f4f6c4df3d98f530d18cb2975
DTSTAMP:20260421T125941Z
SUMMARY:JFGH Staff Training
DESCRIPTION:Jewish Federation of Greater Harrisburg\nCommunity Calendar\nht
 tps://jewishharrisburg.org/community-calendar/jfgh-staff-training3-11-2026
 \n\nStaff Training
DTSTART;TZID=America/New_York:20260311T130000
DTEND;TZID=America/New_York:20260311T140000
END:VEVENT
END:VCALENDAR
