BEGIN:VCALENDAR
PRODID:-//eluceo/ical//2.0/EN
VERSION:2.0
CALSCALE:GREGORIAN
BEGIN:VEVENT
UID:d7d45357653cba590fb449366f893e31
DTSTAMP:20260419T205919Z
SUMMARY:JLP March Meeting
DESCRIPTION:Jewish Federation of Greater Harrisburg\nCommunity Calendar\nht
 tps://jewishharrisburg.org/community-calendar/jlp-march-meeting\n\nJewish 
 Leadership Program in the Silver Academy Kindergarten Room
DTSTART;TZID=America/New_York:20190318T173000
DTEND;TZID=America/New_York:20190318T190000
END:VEVENT
END:VCALENDAR
