BEGIN:VCALENDAR
PRODID:-//eluceo/ical//2.0/EN
VERSION:2.0
CALSCALE:GREGORIAN
BEGIN:VEVENT
UID:a983cd0c7d4dab7c05ee8bc557304a31
DTSTAMP:20260419T173849Z
SUMMARY:KI Rental
DESCRIPTION:Jewish Federation of Greater Harrisburg\nCommunity Calendar\nht
 tps://jewishharrisburg.org/community-calendar/ki-rental9-2021\n\nKI rental
DTSTART;TZID=America/New_York:20210906T163000
DTEND;TZID=America/New_York:20210906T200000
END:VEVENT
END:VCALENDAR
