BEGIN:VCALENDAR
PRODID:-//eluceo/ical//2.0/EN
VERSION:2.0
CALSCALE:GREGORIAN
BEGIN:VEVENT
UID:4045e0df477f93bb4a0f98725bca87c1
DTSTAMP:20260419T214447Z
SUMMARY:Kids Movie Night
DESCRIPTION:Jewish Federation of Greater Harrisburg\nCommunity Calendar\nht
 tps://jewishharrisburg.org/community-calendar/kids-movie-night1-11-26\n\nY
 ou've got a friend in the JCC! Join us for a screening of family favorite 
 Toy Story alongside our friends from throughout the community.
DTSTART;TZID=America/New_York:20260111T180000
DTEND;TZID=America/New_York:20260111T200000
END:VEVENT
END:VCALENDAR
