BEGIN:VCALENDAR
PRODID:-//eluceo/ical//2.0/EN
VERSION:2.0
CALSCALE:GREGORIAN
BEGIN:VEVENT
UID:e58d4ac34ad92b47762cb5b3560f71b9
DTSTAMP:20260419T141806Z
SUMMARY:Learn to ice Skate Classes
DESCRIPTION:Jewish Federation of Greater Harrisburg\nCommunity Calendar\nht
 tps://jewishharrisburg.org/community-calendar/learn-to-ice-skate-classes1-
 26\n\nWe’re excited to partner with Twin Ponds to offer a 7-week Learn t
 o Skate program for all ages! Whether you’re stepping on the ice for the
  first time or looking to sharpen your skills\, this program is a fun and 
 supportive way to learn and grow on the rink.\n\nAll Ages\n\n$140 + $20 an
 nual Learn to Skate USA membership \n\nLink for Learn to Skate USA $20 Me
 mbership: https://learntoskateusa.com/registration\n\n7 classes\, Mondays 
 1/5/25 to Monday 2/16/25\n\nTwin Ponds: 3904 Corey Road Harri...
DTSTART;TZID=America/New_York:20260105T174000
DTEND;TZID=America/New_York:20260105T184000
END:VEVENT
END:VCALENDAR
