BEGIN:VCALENDAR
PRODID:-//eluceo/ical//2.0/EN
VERSION:2.0
CALSCALE:GREGORIAN
BEGIN:VEVENT
UID:08bf5f06b590419013296cc8a1cfa3f3
DTSTAMP:20260425T131548Z
SUMMARY:Mary Sachs Trustee Meeting
DESCRIPTION:Jewish Federation of Greater Harrisburg\nCommunity Calendar\nht
 tps://jewishharrisburg.org/community-calendar/mary-sachs-trustees-meeting-
 April-2026\n\nTrustee Meeting
DTSTART;TZID=America/New_York:20260424T130000
DTEND;TZID=America/New_York:20260424T150000
END:VEVENT
END:VCALENDAR
