BEGIN:VCALENDAR
PRODID:-//eluceo/ical//2.0/EN
VERSION:2.0
CALSCALE:GREGORIAN
BEGIN:VEVENT
UID:e2485c33668a2aad67b64349e854f96f
DTSTAMP:20260425T211300Z
SUMMARY:Reading and Rhythm (infant- preschool!)
DESCRIPTION:Jewish Federation of Greater Harrisburg\nCommunity Calendar\nht
 tps://jewishharrisburg.org/community-calendar/reading-and-rhythm10-19\n\nJ
 oin instructor Lindsey Kreider with Reading and Rhythm- a combination of s
 tory time and interactive music and games! This is a great opportunity for
  families with young children to play and socialize. Geared towards childr
 en aged 1-5\, infants welcome! \n\nSessions Fridays and Sundays 10:00-11:
 00am\, drop by starting at 9:30!\nSunday 10/19\, Friday 10/24\,  Sunday 
 11/2\, Friday 11/7\, Sunday 11/16\, Friday 11/21\, Sunday 11/30\, Friday 1
 2/5\n\nPricing per family: $5/members $10/nonmembers\n\nMinim...
DTSTART;TZID=America/New_York:20251019T093000
DTEND;TZID=America/New_York:20251019T110000
END:VEVENT
END:VCALENDAR
