BEGIN:VCALENDAR
PRODID:-//eluceo/ical//2.0/EN
VERSION:2.0
CALSCALE:GREGORIAN
BEGIN:VEVENT
UID:4670e7396b7a78ef0963aa0293495872
DTSTAMP:20260421T033043Z
SUMMARY:SA Candle Lighting
DESCRIPTION:Jewish Federation of Greater Harrisburg\nCommunity Calendar\nht
 tps://jewishharrisburg.org/community-calendar/sa-candle-lighting-12-14a\n\
 nSilver Academy Hanukah Lighting
DTSTART;TZID=America/New_York:20141222T081500
DTEND;TZID=America/New_York:20141222T090000
END:VEVENT
END:VCALENDAR
