BEGIN:VCALENDAR
PRODID:-//eluceo/ical//2.0/EN
VERSION:2.0
CALSCALE:GREGORIAN
BEGIN:VEVENT
UID:03c28e985293c56079c02022710924a0
DTSTAMP:20260420T005238Z
SUMMARY:SA Endowment Committee Meeting
DESCRIPTION:Jewish Federation of Greater Harrisburg\nCommunity Calendar\nht
 tps://jewishharrisburg.org/community-calendar/sa-endowment-committee-meeti
 ng\n\nSA Endowment Committee Meeting
DTSTART;TZID=America/New_York:20160406T193000
DTEND;TZID=America/New_York:20160406T210000
END:VEVENT
END:VCALENDAR
