BEGIN:VCALENDAR
PRODID:-//eluceo/ical//2.0/EN
VERSION:2.0
CALSCALE:GREGORIAN
BEGIN:VEVENT
UID:99c0d3579f01fa3af6ad9266caff3787
DTSTAMP:20260420T150416Z
SUMMARY:SA Musical Prep
DESCRIPTION:Jewish Federation of Greater Harrisburg\nCommunity Calendar\nht
 tps://jewishharrisburg.org/community-calendar/sa-moana-musical-prep\n\nSA 
 Musical Prep
DTSTART;TZID=America/New_York:20230524T154000
DTEND;TZID=America/New_York:20230524T203000
END:VEVENT
END:VCALENDAR
