BEGIN:VCALENDAR
PRODID:-//eluceo/ical//2.0/EN
VERSION:2.0
CALSCALE:GREGORIAN
BEGIN:VEVENT
UID:3d6fccbff4cc6c5b4b7f764a2109391a
DTSTAMP:20260419T232043Z
SUMMARY:SA Rehearsals
DESCRIPTION:Jewish Federation of Greater Harrisburg\nCommunity Calendar\nht
 tps://jewishharrisburg.org/community-calendar/sa-rehearsals12-16-25\n\nSA 
 Rehearsal
DTSTART;TZID=America/New_York:20251216T090000
DTEND;TZID=America/New_York:20251216T144500
END:VEVENT
END:VCALENDAR
