BEGIN:VCALENDAR
PRODID:-//eluceo/ical//2.0/EN
VERSION:2.0
CALSCALE:GREGORIAN
BEGIN:VEVENT
UID:ec0f6f6b9140b837bea86f0c0ce432b7
DTSTAMP:20260419T233514Z
SUMMARY:SA Rehearsals
DESCRIPTION:Jewish Federation of Greater Harrisburg\nCommunity Calendar\nht
 tps://jewishharrisburg.org/community-calendar/sa-rehearsals12-17-2025\n\nS
 A Rehearsals
DTSTART;TZID=America/New_York:20251217T090000
DTEND;TZID=America/New_York:20251217T160000
END:VEVENT
END:VCALENDAR
