BEGIN:VCALENDAR
PRODID:-//eluceo/ical//2.0/EN
VERSION:2.0
CALSCALE:GREGORIAN
BEGIN:VEVENT
UID:da025724a375efe0f69f3e3620016b25
DTSTAMP:20260420T124444Z
SUMMARY:SA Rehearsals
DESCRIPTION:Jewish Federation of Greater Harrisburg\nCommunity Calendar\nht
 tps://jewishharrisburg.org/community-calendar/sa-rehearsals12-3-25\n\nSA r
 ehearsals
DTSTART;TZID=America/New_York:20251203T143000
DTEND;TZID=America/New_York:20251203T153000
END:VEVENT
END:VCALENDAR
