BEGIN:VCALENDAR
PRODID:-//eluceo/ical//2.0/EN
VERSION:2.0
CALSCALE:GREGORIAN
BEGIN:VEVENT
UID:843e7f1b7095a895cee4519062dc5c63
DTSTAMP:20260420T094027Z
SUMMARY:SA Special Projects Class
DESCRIPTION:Jewish Federation of Greater Harrisburg\nCommunity Calendar\nht
 tps://jewishharrisburg.org/community-calendar/sa-special-projects-class3-3
 0-23\n\nSA Special Projects Class
DTSTART;TZID=America/New_York:20230330T120000
DTEND;TZID=America/New_York:20230330T140000
END:VEVENT
END:VCALENDAR
