BEGIN:VCALENDAR
PRODID:-//eluceo/ical//2.0/EN
VERSION:2.0
CALSCALE:GREGORIAN
BEGIN:VEVENT
UID:404e9f83ca47a308ce1b7da3fd19e9a1
DTSTAMP:20260425T230742Z
SUMMARY:Sean Self-Defense Private Class
DESCRIPTION:Jewish Federation of Greater Harrisburg\nCommunity Calendar\nht
 tps://jewishharrisburg.org/community-calendar/sean-self-defense-private-cl
 ass1-31-26\n\n 
DTSTART;TZID=America/New_York:20260131T090000
DTEND;TZID=America/New_York:20260131T103000
END:VEVENT
END:VCALENDAR
