BEGIN:VCALENDAR
PRODID:-//eluceo/ical//2.0/EN
VERSION:2.0
CALSCALE:GREGORIAN
BEGIN:VEVENT
UID:27c6cc674b00fdd1648c151146b03e03
DTSTAMP:20260424T222100Z
SUMMARY:Senior Adult Club Luncheon
DESCRIPTION:Jewish Federation of Greater Harrisburg\nCommunity Calendar\nht
 tps://jewishharrisburg.org/community-calendar/senior-adult-club-luncheonFY
 2026a2-12\n\nSenior Adult Club Lunches are held every Tuesday and Thursday
 \, except for Jewish Holidays or National Holidays.  We have a lunch at N
 oon with varied programs after lunch until approximately 1:30pm.  Those t
 hat want to play Mah Jonng\, Rummikub or other game can stay and play
DTSTART;TZID=America/New_York:20260212T103000
DTEND;TZID=America/New_York:20260212T140000
END:VEVENT
END:VCALENDAR
