BEGIN:VCALENDAR
PRODID:-//eluceo/ical//2.0/EN
VERSION:2.0
CALSCALE:GREGORIAN
BEGIN:VEVENT
UID:93532bd23e779fef8c109dc5491a2b7f
DTSTAMP:20260419T165648Z
SUMMARY:Senior Thanksgiving set-up
DESCRIPTION:Jewish Federation of Greater Harrisburg\nCommunity Calendar\nht
 tps://jewishharrisburg.org/community-calendar/senior-thanksgiving-set-upFY
 24\n\nSet-up for Senior \n\nThanksgiving Lunch
DTSTART;TZID=America/New_York:20231120T130000
DTEND;TZID=America/New_York:20231121T110000
END:VEVENT
END:VCALENDAR
