BEGIN:VCALENDAR
PRODID:-//eluceo/ical//2.0/EN
VERSION:2.0
CALSCALE:GREGORIAN
BEGIN:VEVENT
UID:cae9178a164450aba3b5457966c93680
DTSTAMP:20260425T024459Z
SUMMARY:Staff Meeting
DESCRIPTION:Jewish Federation of Greater Harrisburg\nCommunity Calendar\nht
 tps://jewishharrisburg.org/community-calendar/staff-meeting-12-17-2025\n\n
 JFGH Staff Meeting
DTSTART;TZID=America/New_York:20251217T150000
DTEND;TZID=America/New_York:20251217T160000
END:VEVENT
END:VCALENDAR
