BEGIN:VCALENDAR
PRODID:-//eluceo/ical//2.0/EN
VERSION:2.0
CALSCALE:GREGORIAN
BEGIN:VEVENT
UID:09bb5a8754892b084fcb148fd0f7536b
DTSTAMP:20260419T142614Z
SUMMARY:The Edward S. Finkelstein Harrisburg Jewish Film Festival
DESCRIPTION:Jewish Federation of Greater Harrisburg\nCommunity Calendar\nht
 tps://jewishharrisburg.org/community-calendar/the-edward-s-finkelstein-har
 risburg-jewish-film-festival5-192026\n\nThe Edward S. Finkelstein Harrisbu
 rg Jewish Film Festival -more information to come
DTSTART;TZID=America/New_York:20260519T090000
DTEND;TZID=America/New_York:20260519T210000
END:VEVENT
END:VCALENDAR
