BEGIN:VCALENDAR
PRODID:-//eluceo/ical//2.0/EN
VERSION:2.0
CALSCALE:GREGORIAN
BEGIN:VEVENT
UID:657ed5b5f5c5630efb16b7e4b5a9f3c7
DTSTAMP:20260419T161410Z
SUMMARY:The Edward S. Finkelstein Harrisburg Jewish Film Festival
DESCRIPTION:Jewish Federation of Greater Harrisburg\nCommunity Calendar\nht
 tps://jewishharrisburg.org/community-calendar/the-edward-s-finkelstein-har
 risburg-jewish-film-festival5-202026\n\nThe Edward S. Finkelstein Harrisbu
 rg Jewish Film Festival -more information to come
DTSTART;TZID=America/New_York:20260520T090000
DTEND;TZID=America/New_York:20260520T210000
END:VEVENT
END:VCALENDAR
