BEGIN:VCALENDAR
PRODID:-//eluceo/ical//2.0/EN
VERSION:2.0
CALSCALE:GREGORIAN
BEGIN:VEVENT
UID:ed61fa6d55cd4fa3c1b59f713b4d79c2
DTSTAMP:20260419T142624Z
SUMMARY:The Edward S. Finkelstein Harrisburg Jewish Film Festival
DESCRIPTION:Jewish Federation of Greater Harrisburg\nCommunity Calendar\nht
 tps://jewishharrisburg.org/community-calendar/the-edward-s-finkelstein-har
 risburg-jewish-film-festival5-212026\n\nThe Edward S. Finkelstein Harrisbu
 rg Jewish Film Festival -more information to come
DTSTART;TZID=America/New_York:20260521T090000
DTEND;TZID=America/New_York:20260521T210000
END:VEVENT
END:VCALENDAR
