BEGIN:VCALENDAR
PRODID:-//eluceo/ical//2.0/EN
VERSION:2.0
CALSCALE:GREGORIAN
BEGIN:VEVENT
UID:c28bcd47feb15d9383d683e7bed475a8
DTSTAMP:20260425T172845Z
SUMMARY:United Hatzalah Event
DESCRIPTION:Jewish Federation of Greater Harrisburg\nCommunity Calendar\nht
 tps://jewishharrisburg.org/community-calendar/united-hatzalah-event\n\nUni
 ted Hatzalah Event 
DTSTART;TZID=America/New_York:20260324T183000
DTEND;TZID=America/New_York:20260324T200000
END:VEVENT
END:VCALENDAR
