BEGIN:VCALENDAR
PRODID:-//eluceo/ical//2.0/EN
VERSION:2.0
CALSCALE:GREGORIAN
BEGIN:VEVENT
UID:aaaac90bd07b0d1d265c997a3de26d81
DTSTAMP:20260425T191305Z
SUMMARY:Wedding Expo
DESCRIPTION:Jewish Federation of Greater Harrisburg\nCommunity Calendar\nht
 tps://jewishharrisburg.org/community-calendar/wedding-expo-1773166138\n\nR
 ecently engaged or planning your wedding? This is the event that you do no
 t want to miss!\nJoin us April 12 for the Wedding Expo where you can meet 
 some of the best wedding vendors in Central PA all in one place. From beau
 ty and jewelry to decor\, photography\, and more - you'll find the perfect
  team to help bring your dream wedding to life.
DTSTART;TZID=America/New_York:20260412T110000
DTEND;TZID=America/New_York:20260412T150000
END:VEVENT
END:VCALENDAR
